BEGIN:VCALENDAR
VERSION:2.0
PRODID:-// - ECPv6.15.20//NONSGML v1.0//EN
CALSCALE:GREGORIAN
METHOD:PUBLISH
X-ORIGINAL-URL:https://www.obmov.nl
X-WR-CALDESC:Evenementen voor 
REFRESH-INTERVAL;VALUE=DURATION:PT1H
X-Robots-Tag:noindex
X-PUBLISHED-TTL:PT1H
BEGIN:VTIMEZONE
TZID:Europe/Amsterdam
BEGIN:DAYLIGHT
TZOFFSETFROM:+0100
TZOFFSETTO:+0200
TZNAME:CEST
DTSTART:20230326T010000
END:DAYLIGHT
BEGIN:STANDARD
TZOFFSETFROM:+0200
TZOFFSETTO:+0100
TZNAME:CET
DTSTART:20231029T010000
END:STANDARD
BEGIN:DAYLIGHT
TZOFFSETFROM:+0100
TZOFFSETTO:+0200
TZNAME:CEST
DTSTART:20240331T010000
END:DAYLIGHT
BEGIN:STANDARD
TZOFFSETFROM:+0200
TZOFFSETTO:+0100
TZNAME:CET
DTSTART:20241027T010000
END:STANDARD
BEGIN:DAYLIGHT
TZOFFSETFROM:+0100
TZOFFSETTO:+0200
TZNAME:CEST
DTSTART:20250330T010000
END:DAYLIGHT
BEGIN:STANDARD
TZOFFSETFROM:+0200
TZOFFSETTO:+0100
TZNAME:CET
DTSTART:20251026T010000
END:STANDARD
END:VTIMEZONE
BEGIN:VEVENT
DTSTART;VALUE=DATE:20240601
DTEND;VALUE=DATE:20240602
DTSTAMP:20260420T004616
CREATED:20231127T153711Z
LAST-MODIFIED:20240310T184143Z
UID:2311-1717200000-1717286399@www.obmov.nl
SUMMARY:Praktijk examen Goor (Home of Talent)
DESCRIPTION:
URL:https://www.obmov.nl/event/praktijk-examen-goor-home-of-talent-beperkte-deelname-voor-blazers/
LOCATION:Goor (Home of Talent)
END:VEVENT
BEGIN:VEVENT
DTSTART;VALUE=DATE:20240608
DTEND;VALUE=DATE:20240609
DTSTAMP:20260420T004616
CREATED:20231127T153747Z
LAST-MODIFIED:20231127T153747Z
UID:2314-1717804800-1717891199@www.obmov.nl
SUMMARY:Praktijk examen Vriezenveen (Odeon) - alleen blazers
DESCRIPTION:
URL:https://www.obmov.nl/event/praktijk-examen-vriezenveen-odeon-alleen-blazers/
LOCATION:Vriezenveen (Odeon)\, Schout Doddestraat 46b\, Vriezenveen\, Overijssel\, 7671 GT\, Netherlands
END:VEVENT
BEGIN:VEVENT
DTSTART;VALUE=DATE:20240608
DTEND;VALUE=DATE:20240609
DTSTAMP:20260420T004616
CREATED:20240403T131653Z
LAST-MODIFIED:20240403T131653Z
UID:2451-1717804800-1717891199@www.obmov.nl
SUMMARY:MT wedstrijd Vroomshoop
DESCRIPTION:
URL:https://www.obmov.nl/event/mt-wedstrijd-vroomshoop/
END:VEVENT
BEGIN:VEVENT
DTSTART;VALUE=DATE:20240615
DTEND;VALUE=DATE:20240616
DTSTAMP:20260420T004616
CREATED:20240109T101751Z
LAST-MODIFIED:20240310T183641Z
UID:2397-1718409600-1718495999@www.obmov.nl
SUMMARY:Jeugdfestival 2024 = VOL
DESCRIPTION:
URL:https://www.obmov.nl/event/jeugdfestival-2024/
LOCATION:Oyfo techniek museum hengelo
END:VEVENT
BEGIN:VEVENT
DTSTART;VALUE=DATE:20240629
DTEND;VALUE=DATE:20240630
DTSTAMP:20260420T004616
CREATED:20231127T153816Z
LAST-MODIFIED:20240518T111815Z
UID:2316-1719619200-1719705599@www.obmov.nl
SUMMARY:Praktijk examen Zwolle (De Morgenster) - blazers en slagwerkers (blazers = vol!)
DESCRIPTION:
URL:https://www.obmov.nl/event/praktijk-examen-zwolle-de-morgenster-blazers-en-slagwerkers/
LOCATION:Zwolle (De Morgenster)
END:VEVENT
END:VCALENDAR