BEGIN:VCALENDAR
VERSION:2.0
PRODID:-// - ECPv6.15.20//NONSGML v1.0//EN
CALSCALE:GREGORIAN
METHOD:PUBLISH
X-ORIGINAL-URL:https://www.obmov.nl
X-WR-CALDESC:Evenementen voor 
REFRESH-INTERVAL;VALUE=DURATION:PT1H
X-Robots-Tag:noindex
X-PUBLISHED-TTL:PT1H
BEGIN:VTIMEZONE
TZID:Europe/Amsterdam
BEGIN:DAYLIGHT
TZOFFSETFROM:+0100
TZOFFSETTO:+0200
TZNAME:CEST
DTSTART:20210328T010000
END:DAYLIGHT
BEGIN:STANDARD
TZOFFSETFROM:+0200
TZOFFSETTO:+0100
TZNAME:CET
DTSTART:20211031T010000
END:STANDARD
BEGIN:DAYLIGHT
TZOFFSETFROM:+0100
TZOFFSETTO:+0200
TZNAME:CEST
DTSTART:20220327T010000
END:DAYLIGHT
BEGIN:STANDARD
TZOFFSETFROM:+0200
TZOFFSETTO:+0100
TZNAME:CET
DTSTART:20221030T010000
END:STANDARD
BEGIN:DAYLIGHT
TZOFFSETFROM:+0100
TZOFFSETTO:+0200
TZNAME:CEST
DTSTART:20230326T010000
END:DAYLIGHT
BEGIN:STANDARD
TZOFFSETFROM:+0200
TZOFFSETTO:+0100
TZNAME:CET
DTSTART:20231029T010000
END:STANDARD
BEGIN:DAYLIGHT
TZOFFSETFROM:+0100
TZOFFSETTO:+0200
TZNAME:CEST
DTSTART:20240331T010000
END:DAYLIGHT
BEGIN:STANDARD
TZOFFSETFROM:+0200
TZOFFSETTO:+0100
TZNAME:CET
DTSTART:20241027T010000
END:STANDARD
BEGIN:DAYLIGHT
TZOFFSETFROM:+0100
TZOFFSETTO:+0200
TZNAME:CEST
DTSTART:20250330T010000
END:DAYLIGHT
BEGIN:STANDARD
TZOFFSETFROM:+0200
TZOFFSETTO:+0100
TZNAME:CET
DTSTART:20251026T010000
END:STANDARD
END:VTIMEZONE
BEGIN:VEVENT
DTSTART;VALUE=DATE:20241214
DTEND;VALUE=DATE:20241215
DTSTAMP:20260420T060705
CREATED:20231127T154021Z
LAST-MODIFIED:20231127T154021Z
UID:2324-1734134400-1734220799@www.obmov.nl
SUMMARY:Praktijk examen Zwartsluis (De Wijngaard)
DESCRIPTION:
URL:https://www.obmov.nl/event/praktijk-examen-zwartsluis-de-wijngaard/
LOCATION:Zwartsluis (De Wijngaard)\, Kraggelaan 2\, Zwartsluis\, Overijssel\, 8064 CT\, Netherlands
END:VEVENT
BEGIN:VEVENT
DTSTART;VALUE=DATE:20241116
DTEND;VALUE=DATE:20241117
DTSTAMP:20260420T060705
CREATED:20231127T153954Z
LAST-MODIFIED:20231127T153954Z
UID:2322-1731715200-1731801599@www.obmov.nl
SUMMARY:Theorie examen Vriezenveen (Odeon)
DESCRIPTION:
URL:https://www.obmov.nl/event/theorie-examen-vriezenveen-odeon/
LOCATION:Vriezenveen (Odeon)\, Schout Doddestraat 46b\, Vriezenveen\, Overijssel\, 7671 GT\, Netherlands
END:VEVENT
BEGIN:VEVENT
DTSTART;TZID=Europe/Amsterdam:20241109T090000
DTEND;TZID=Europe/Amsterdam:20241109T223000
DTSTAMP:20260420T060705
CREATED:20230522T112405Z
LAST-MODIFIED:20250627T152044Z
UID:2233-1731142800-1731191400@www.obmov.nl
SUMMARY:Concertconcours 2024
DESCRIPTION:Concertconcours in Enschede. \nSCHRIJF JE NU IN \n 
URL:https://www.obmov.nl/event/concertconcours-2024/
LOCATION:Muziekcentrum Enschede\, Noorderhagen 27\, Enschede\, Overijssel\, 7511PN\, Netherlands
END:VEVENT
BEGIN:VEVENT
DTSTART;VALUE=DATE:20241102
DTEND;VALUE=DATE:20241103
DTSTAMP:20260420T060705
CREATED:20240403T132350Z
LAST-MODIFIED:20240403T132350Z
UID:2455-1730505600-1730591999@www.obmov.nl
SUMMARY:Overijssels kampioenschap MT
DESCRIPTION: 
URL:https://www.obmov.nl/event/overijssels-kampioenschap-mt/
END:VEVENT
BEGIN:VEVENT
DTSTART;VALUE=DATE:20241012
DTEND;VALUE=DATE:20241013
DTSTAMP:20260420T060705
CREATED:20240318T181720Z
LAST-MODIFIED:20240318T181720Z
UID:2441-1728691200-1728777599@www.obmov.nl
SUMMARY:Jeugdfestival slagwerkensembles
DESCRIPTION:
URL:https://www.obmov.nl/event/jeugdfestival-slagwerkensembles/
LOCATION:Domus\, Westerhaar
END:VEVENT
BEGIN:VEVENT
DTSTART;VALUE=DATE:20241005
DTEND;VALUE=DATE:20241006
DTSTAMP:20260420T060705
CREATED:20240403T132326Z
LAST-MODIFIED:20240403T132326Z
UID:2453-1728086400-1728172799@www.obmov.nl
SUMMARY:MT wedstrijd Kampen
DESCRIPTION: 
URL:https://www.obmov.nl/event/mt-wedstrijd-kampen/
END:VEVENT
BEGIN:VEVENT
DTSTART;VALUE=DATE:20240713
DTEND;VALUE=DATE:20240714
DTSTAMP:20260420T060705
CREATED:20231127T153926Z
LAST-MODIFIED:20240310T183617Z
UID:2320-1720828800-1720915199@www.obmov.nl
SUMMARY:Praktijk examen Vriezenveen (Odeon) - blazers en slagwerkers = VOL voor blazers.
DESCRIPTION:
URL:https://www.obmov.nl/event/praktijk-examen-vriezenveen-odeon-blazers-en-slagwerkers/
LOCATION:Vriezenveen (Odeon)\, Schout Doddestraat 46b\, Vriezenveen\, Overijssel\, 7671 GT\, Netherlands
END:VEVENT
BEGIN:VEVENT
DTSTART;VALUE=DATE:20240706
DTEND;VALUE=DATE:20240707
DTSTAMP:20260420T060705
CREATED:20231127T153855Z
LAST-MODIFIED:20231127T153855Z
UID:2318-1720224000-1720310399@www.obmov.nl
SUMMARY:Praktijk examen Hasselt (locatie volgt) - beperkte deelname\, alleen slagwerkers!
DESCRIPTION:
URL:https://www.obmov.nl/event/praktijk-examen-hasselt-locatie-volgt-beperkte-deelname-alleen-slagwerkers/
END:VEVENT
BEGIN:VEVENT
DTSTART;VALUE=DATE:20240629
DTEND;VALUE=DATE:20240630
DTSTAMP:20260420T060705
CREATED:20231127T153816Z
LAST-MODIFIED:20240518T111815Z
UID:2316-1719619200-1719705599@www.obmov.nl
SUMMARY:Praktijk examen Zwolle (De Morgenster) - blazers en slagwerkers (blazers = vol!)
DESCRIPTION:
URL:https://www.obmov.nl/event/praktijk-examen-zwolle-de-morgenster-blazers-en-slagwerkers/
LOCATION:Zwolle (De Morgenster)
END:VEVENT
BEGIN:VEVENT
DTSTART;VALUE=DATE:20240615
DTEND;VALUE=DATE:20240616
DTSTAMP:20260420T060705
CREATED:20240109T101751Z
LAST-MODIFIED:20240310T183641Z
UID:2397-1718409600-1718495999@www.obmov.nl
SUMMARY:Jeugdfestival 2024 = VOL
DESCRIPTION:
URL:https://www.obmov.nl/event/jeugdfestival-2024/
LOCATION:Oyfo techniek museum hengelo
END:VEVENT
BEGIN:VEVENT
DTSTART;VALUE=DATE:20240608
DTEND;VALUE=DATE:20240609
DTSTAMP:20260420T060705
CREATED:20240403T131653Z
LAST-MODIFIED:20240403T131653Z
UID:2451-1717804800-1717891199@www.obmov.nl
SUMMARY:MT wedstrijd Vroomshoop
DESCRIPTION:
URL:https://www.obmov.nl/event/mt-wedstrijd-vroomshoop/
END:VEVENT
BEGIN:VEVENT
DTSTART;VALUE=DATE:20240608
DTEND;VALUE=DATE:20240609
DTSTAMP:20260420T060705
CREATED:20231127T153747Z
LAST-MODIFIED:20231127T153747Z
UID:2314-1717804800-1717891199@www.obmov.nl
SUMMARY:Praktijk examen Vriezenveen (Odeon) - alleen blazers
DESCRIPTION:
URL:https://www.obmov.nl/event/praktijk-examen-vriezenveen-odeon-alleen-blazers/
LOCATION:Vriezenveen (Odeon)\, Schout Doddestraat 46b\, Vriezenveen\, Overijssel\, 7671 GT\, Netherlands
END:VEVENT
BEGIN:VEVENT
DTSTART;VALUE=DATE:20240601
DTEND;VALUE=DATE:20240602
DTSTAMP:20260420T060705
CREATED:20231127T153711Z
LAST-MODIFIED:20240310T184143Z
UID:2311-1717200000-1717286399@www.obmov.nl
SUMMARY:Praktijk examen Goor (Home of Talent)
DESCRIPTION:
URL:https://www.obmov.nl/event/praktijk-examen-goor-home-of-talent-beperkte-deelname-voor-blazers/
LOCATION:Goor (Home of Talent)
END:VEVENT
BEGIN:VEVENT
DTSTART;VALUE=DATE:20240525
DTEND;VALUE=DATE:20240526
DTSTAMP:20260420T060705
CREATED:20231127T153626Z
LAST-MODIFIED:20231127T153626Z
UID:2309-1716595200-1716681599@www.obmov.nl
SUMMARY:Theorie examen Zwolle (De Morgenster)
DESCRIPTION:
URL:https://www.obmov.nl/event/theorie-examen-zwolle-de-morgenster/
LOCATION:Zwolle (De Morgenster)
END:VEVENT
BEGIN:VEVENT
DTSTART;VALUE=DATE:20240420
DTEND;VALUE=DATE:20240421
DTSTAMP:20260420T060705
CREATED:20231127T153600Z
LAST-MODIFIED:20231127T153600Z
UID:2307-1713571200-1713657599@www.obmov.nl
SUMMARY:Praktijk examen te Zwolle (De Morgenster) voor Blazers en Slagwerkers
DESCRIPTION:
URL:https://www.obmov.nl/event/praktijk-examen-te-zwolle-de-morgenster-voor-blazers-en-slagwerkers/
END:VEVENT
BEGIN:VEVENT
DTSTART;VALUE=DATE:20240406
DTEND;VALUE=DATE:20240407
DTSTAMP:20260420T060705
CREATED:20240403T131624Z
LAST-MODIFIED:20240403T131624Z
UID:2449-1712361600-1712447999@www.obmov.nl
SUMMARY:MT wedstrijd Hardenberg
DESCRIPTION:
URL:https://www.obmov.nl/event/mt-wedstrijd-hardenberg/
END:VEVENT
BEGIN:VEVENT
DTSTART;VALUE=DATE:20240406
DTEND;VALUE=DATE:20240407
DTSTAMP:20260420T060705
CREATED:20231127T153521Z
LAST-MODIFIED:20240227T180226Z
UID:2305-1712361600-1712447999@www.obmov.nl
SUMMARY:Theorie examen te Goor (Basisschool) VOL!
DESCRIPTION:
URL:https://www.obmov.nl/event/theorie-examen-te-goor-basisschool/
END:VEVENT
BEGIN:VEVENT
DTSTART;VALUE=DATE:20240323
DTEND;VALUE=DATE:20240324
DTSTAMP:20260420T060705
CREATED:20231127T153448Z
LAST-MODIFIED:20231127T153448Z
UID:2302-1711152000-1711238399@www.obmov.nl
SUMMARY:Theorie examen te Vriezenveen (Odeon)
DESCRIPTION:
URL:https://www.obmov.nl/event/theorie-examen-te-vriezenveen-odeon/
LOCATION:Vriezenveen (Odeon)\, Schout Doddestraat 46b\, Vriezenveen\, Overijssel\, 7671 GT\, Netherlands
END:VEVENT
BEGIN:VEVENT
DTSTART;VALUE=DATE:20240309
DTEND;VALUE=DATE:20240310
DTSTAMP:20260420T060705
CREATED:20231218T104625Z
LAST-MODIFIED:20231218T104625Z
UID:2369-1709942400-1710028799@www.obmov.nl
SUMMARY:OBM Play-inn
DESCRIPTION:
URL:https://www.obmov.nl/event/obm-play-inn/
LOCATION:Gebouw van Voorwaarts Zwartsluis
END:VEVENT
BEGIN:VEVENT
DTSTART;VALUE=DATE:20240302
DTEND;VALUE=DATE:20240303
DTSTAMP:20260420T060705
CREATED:20231127T153415Z
LAST-MODIFIED:20231127T153415Z
UID:2298-1709337600-1709423999@www.obmov.nl
SUMMARY:Theorie examen te Zwolle (De Morgenster)
DESCRIPTION:
URL:https://www.obmov.nl/event/theorie-examen-te-zwolle-de-morgenster/
LOCATION:Zwolle (De Morgenster)
END:VEVENT
BEGIN:VEVENT
DTSTART;VALUE=DATE:20231216
DTEND;VALUE=DATE:20231217
DTSTAMP:20260420T060705
CREATED:20230118T170105Z
LAST-MODIFIED:20230118T170105Z
UID:2106-1702684800-1702771199@www.obmov.nl
SUMMARY:Praktijk examen Zwartsluis
DESCRIPTION:
URL:https://www.obmov.nl/event/praktijk-examen-zwartsluis/
END:VEVENT
BEGIN:VEVENT
DTSTART;VALUE=DATE:20231118
DTEND;VALUE=DATE:20231119
DTSTAMP:20260420T060705
CREATED:20220921T191523Z
LAST-MODIFIED:20230303T103325Z
UID:1862-1700265600-1700351999@www.obmov.nl
SUMMARY:Theorie examen Vriezenveen
DESCRIPTION:
URL:https://www.obmov.nl/event/theorie-examen-vriezenveen-3/
END:VEVENT
BEGIN:VEVENT
DTSTART;VALUE=DATE:20231111
DTEND;VALUE=DATE:20231112
DTSTAMP:20260420T060705
CREATED:20230116T154348Z
LAST-MODIFIED:20230317T103332Z
UID:2062-1699660800-1699747199@www.obmov.nl
SUMMARY:Concert Concours Enschede 2023 (VOL)
DESCRIPTION:
URL:https://www.obmov.nl/event/concert-concours-enschede-2023/
LOCATION:Muziekcentrum Enschede\, Noorderhagen 27\, Enschede\, Overijssel\, 7511PN\, Netherlands
END:VEVENT
BEGIN:VEVENT
DTSTART;VALUE=DATE:20231104
DTEND;VALUE=DATE:20231105
DTSTAMP:20260420T060705
CREATED:20230116T160415Z
LAST-MODIFIED:20230116T160415Z
UID:2073-1699056000-1699142399@www.obmov.nl
SUMMARY:Overijssels Kampioenschap MT te Vroomshoop
DESCRIPTION:
URL:https://www.obmov.nl/event/overijssels-kampioenschap-mt-te-vroomshoop/
END:VEVENT
BEGIN:VEVENT
DTSTART;VALUE=DATE:20231014
DTEND;VALUE=DATE:20231015
DTSTAMP:20260420T060705
CREATED:20230116T154605Z
LAST-MODIFIED:20230926T104200Z
UID:2064-1697241600-1697327999@www.obmov.nl
SUMMARY:Hanzefestival
DESCRIPTION:
URL:https://www.obmov.nl/event/festival-voor-a-orkesten/
LOCATION:Parkgebouw Rijssen\, Oosterhofweg 49
END:VEVENT
BEGIN:VEVENT
DTSTART;VALUE=DATE:20231007
DTEND;VALUE=DATE:20231008
DTSTAMP:20260420T060705
CREATED:20230116T160212Z
LAST-MODIFIED:20230116T160212Z
UID:2071-1696636800-1696723199@www.obmov.nl
SUMMARY:MT wedstrijd Hasselt
DESCRIPTION:
URL:https://www.obmov.nl/event/mt-wedstrijd-hasselt/
END:VEVENT
BEGIN:VEVENT
DTSTART;VALUE=DATE:20230617
DTEND;VALUE=DATE:20230618
DTSTAMP:20260420T060705
CREATED:20221004T083920Z
LAST-MODIFIED:20221004T083920Z
UID:1871-1686960000-1687046399@www.obmov.nl
SUMMARY:Jeugdorkestenfestival Borne
DESCRIPTION:
URL:https://www.obmov.nl/event/jeugdorkestenfestival-borne/
LOCATION:Kulturhuus Borne
END:VEVENT
BEGIN:VEVENT
DTSTART;VALUE=DATE:20230610
DTEND;VALUE=DATE:20230611
DTSTAMP:20260420T060706
CREATED:20230116T160108Z
LAST-MODIFIED:20230116T160108Z
UID:2069-1686355200-1686441599@www.obmov.nl
SUMMARY:MT wedstrijd te Vroomshoop
DESCRIPTION:
URL:https://www.obmov.nl/event/mt-wedstrijd-te-vroomshoop/
END:VEVENT
BEGIN:VEVENT
DTSTART;VALUE=DATE:20221217
DTEND;VALUE=DATE:20221218
DTSTAMP:20260420T060706
CREATED:20220426T142925Z
LAST-MODIFIED:20220426T142925Z
UID:1713-1671235200-1671321599@www.obmov.nl
SUMMARY:Praktijkexamen
DESCRIPTION:Inschrijven t/m 15 november mogelijk.
URL:https://www.obmov.nl/event/praktijkexamen/
END:VEVENT
BEGIN:VEVENT
DTSTART;VALUE=DATE:20221119
DTEND;VALUE=DATE:20221120
DTSTAMP:20260420T060706
CREATED:20211026T092804Z
LAST-MODIFIED:20211027T084511Z
UID:1337-1668816000-1668902399@www.obmov.nl
SUMMARY:Theorie examen Vriezenveen
DESCRIPTION:Inschrijven voor dit examen kan tot en met 19 oktober 2022. Voor het formulier ga naar examens -> inschrijfformulieren.
URL:https://www.obmov.nl/event/theorie-examen-vriezenveen-2/
END:VEVENT
END:VCALENDAR