BEGIN:VCALENDAR
VERSION:2.0
PRODID:-// - ECPv6.15.20//NONSGML v1.0//EN
CALSCALE:GREGORIAN
METHOD:PUBLISH
X-ORIGINAL-URL:https://www.obmov.nl
X-WR-CALDESC:Evenementen voor 
REFRESH-INTERVAL;VALUE=DURATION:PT1H
X-Robots-Tag:noindex
X-PUBLISHED-TTL:PT1H
BEGIN:VTIMEZONE
TZID:Europe/Amsterdam
BEGIN:DAYLIGHT
TZOFFSETFROM:+0100
TZOFFSETTO:+0200
TZNAME:CEST
DTSTART:20250330T010000
END:DAYLIGHT
BEGIN:STANDARD
TZOFFSETFROM:+0200
TZOFFSETTO:+0100
TZNAME:CET
DTSTART:20251026T010000
END:STANDARD
BEGIN:DAYLIGHT
TZOFFSETFROM:+0100
TZOFFSETTO:+0200
TZNAME:CEST
DTSTART:20260329T010000
END:DAYLIGHT
BEGIN:STANDARD
TZOFFSETFROM:+0200
TZOFFSETTO:+0100
TZNAME:CET
DTSTART:20261025T010000
END:STANDARD
BEGIN:DAYLIGHT
TZOFFSETFROM:+0100
TZOFFSETTO:+0200
TZNAME:CEST
DTSTART:20270328T010000
END:DAYLIGHT
BEGIN:STANDARD
TZOFFSETFROM:+0200
TZOFFSETTO:+0100
TZNAME:CET
DTSTART:20271031T010000
END:STANDARD
END:VTIMEZONE
BEGIN:VEVENT
DTSTART;TZID=Europe/Amsterdam:20260103T093000
DTEND;TZID=Europe/Amsterdam:20260103T153000
DTSTAMP:20260420T020626
CREATED:20260102T105942Z
LAST-MODIFIED:20260102T105942Z
UID:3747-1767432600-1767454200@www.obmov.nl
SUMMARY:TwirlXperience
DESCRIPTION:Tijdens deze sportieve dag kun je deelnemen aan diverse workshops voor alle leeftijden en niveaus.\n\n \n\nDe TwirlXperience Epe wordt georganiseerd door MBGF\, MGD en OBM.\n\nDocententeam & Workshops\n\nRichard Spaan – Rolls & contactmateriaal\n\nRia Spaan & Richard Spaan – Terminologie & technieken\n\nRoswitha Jongman – Acrobatiek (basis)\, kracht & lenigheid\n\nRia Spaan – Poms\n\n \n\nDe inschrijving is dan wel gesloten\, maar kom vooral gezellig langs\, je bent meer dan welkom!
URL:https://www.obmov.nl/event/twirlxperience/
LOCATION:Sporthal PWA Epe\, Sportlaan 1\, Epe\, Gelderland\, 8162 BE\, Netherlands
END:VEVENT
END:VCALENDAR